{"text_format":"1","workbook":"xlsx","n_sheets":3,"sheets":["Dashboard","Backing Sheet Data","Year Calculations"],"not_rendered":{"charts":4,"images":1,"macros":0,"external_links":1,"defined_names":4,"comments":1,"pivot_tables":2},"unopened":[],"bounds":{"document_bytes":16777216,"sheet_cells":100000,"rows_first":2000,"rows_last":500,"rows_between":2000,"halvings":0,"cell_chars":16384,"cell_head_chars":4096},"cells_cut":0,"cells_raw":0,"read":"whole","date_system":"1900"}

{"sheet":"Dashboard","index":0,"n_rows":18,"n_cols":26,"rows_kept":18,"cut":false,"hidden":false,"merged":[[14,0,14,6],[14,7,14,8],[14,9,14,10],[14,11,14,12],[17,0,17,6],[17,7,17,8],[17,9,17,10],[17,11,17,12],[15,0,15,6],[15,7,15,8],[15,9,15,10],[15,11,15,12],[16,0,16,6],[16,7,16,8],[16,9,16,10],[16,11,16,12],[13,0,13,6],[13,7,13,8],[13,9,13,10],[13,11,13,12],[10,0,11,12],[7,11,7,12],[8,11,8,12],[9,11,9,12],[12,0,12,6],[12,7,12,8],[12,9,12,10],[12,11,12,12],[7,7,7,8],[8,7,8,8],[9,7,9,8],[7,9,7,10],[8,9,8,10],[9,9,9,10],[7,0,7,6],[8,0,8,6],[9,0,9,6],[2,21,3,22],[0,12,1,13],[0,17,1,18],[0,21,1,22],[0,25,1,26],[2,19,3,20],[2,23,3,24],[2,25,3,26],[0,23,1,24],[0,19,1,20],[0,14,1,16],[2,14,3,16],[2,17,3,18],[0,2,1,3],[2,2,3,3],[2,12,3,13],[0,0,1,1],[0,4,1,6],[0,9,1,11],[0,7,1,8],[2,4,3,6],[2,9,3,11],[2,7,3,8],[6,11,6,12],[6,9,6,10],[6,7,6,8],[4,0,5,12],[2,0,3,1],[6,0,6,6]]}
["Total Sent:",null,{"$f":"'Backing Sheet Data'!S2","v":350880},null,"Left process at stage 1:",null,null,{"$f":"'Backing Sheet Data'!T2","v":203457},null,"Left process at stage 2:",null,null,{"$f":"'Backing Sheet Data'!U2","v":3830},null,"Exited process:",null,null,{"$f":"'Backing Sheet Data'!V2","v":55861},null,"Settled:",null,{"$f":"'Backing Sheet Data'!W2","v":3245},null,"Remaining:",null,{"$f":"C1-H1-M1-R1-V1","v":84487}]
[]
["Δ from last month:",null,{"$f":"VLOOKUP('Backing Sheet Data'!$B$2,tblPLBackingData[],2,FALSE)","v":4722},null,"Δ from last month:",null,null,{"$f":"VLOOKUP('Backing Sheet Data'!$B$2,tblPLBackingData[],3,FALSE)","v":2325},null,"Δ from last month:",null,null,{"$f":"VLOOKUP('Backing Sheet Data'!$B$2,tblPLBackingData[],4,FALSE)","v":45},null,"Δ from last month:",null,null,{"$f":"VLOOKUP('Backing Sheet Data'!$B$2,tblPLBackingData[],5,FALSE)","v":773},null,"Δ from last month:",null,{"$f":"VLOOKUP('Backing Sheet Data'!$B$2,tblPLBackingData[],7,FALSE)","v":643},null,"Δ from last month:",null,{"$f":"C3-H3-M3-R3-V3","v":936}]
[]
["Left Process Breakdowns - Stage 1:"]
[]
["Reason",null,null,null,null,null,null,"This Month",null,"Last Month",null,"Δ"]
["Liability Decision Timeout",null,null,null,null,null,null,{"$f":"'Backing Sheet Data'!D25","v":84916},null,{"$f":"H8-L8","v":83466},null,{"$f":"'Backing Sheet Data'!E25","v":1450}]
["Other",null,null,null,null,null,null,{"$f":"'Backing Sheet Data'!F25","v":118689},null,{"$f":"H9-L9","v":117814},null,{"$f":"'Backing Sheet Data'!G25","v":875}]
["Total",null,null,null,null,null,null,{"$f":"SUM(H8:I9)","v":203605},null,{"$f":"SUM(J8:K9)","v":201280},null,{"$f":"SUM(L8:M9)","v":2325}]
["Left Process Breakdowns - Stage 2:"]
[]
["Reason",null,null,null,null,null,null,"This Month",null,"Last Month",null,"Δ"]
["Interim payment more than £1,000 not agreed:",null,null,null,null,null,null,{"$f":"'Backing Sheet Data'!H25","v":52},null,{"$f":"H14-L14","v":51},null,{"$f":"'Backing Sheet Data'!I25","v":1}]
["Settlement pack repudiated:",null,null,null,null,null,null,{"$f":"'Backing Sheet Data'!J25","v":144},null,{"$f":"H15-L15","v":142},null,{"$f":"'Backing Sheet Data'!K25","v":2}]
["Settlement pack timeout:",null,null,null,null,null,null,{"$f":"'Backing Sheet Data'!L25","v":3634},null,3592,null,{"$f":"'Backing Sheet Data'!M25","v":42}]
["No agreement; Court Proceedings pack:",null,null,null,null,null,null,{"$f":"'Backing Sheet Data'!N25","v":3245},null,3163,null,{"$f":"'Backing Sheet Data'!O25","v":82}]
["Total",null,null,null,null,null,null,{"$f":"SUM(H14:I17)","v":7075},null,{"$f":"SUM(J14:K17)","v":6948},null,{"$f":"SUM(L14:M17)","v":127}]

{"sheet":"Backing Sheet Data","index":1,"n_rows":70,"n_cols":28,"rows_kept":70,"cut":false,"hidden":false,"merged":[]}
["Reporting date","2019-04-01"]
["Latest month",{"$f":"EDATE(B1,-1)","v":"2019-03-01"},null,null,null,null,null,null,null,null,null,null,null,null,null,null,null,null,{"$f":"SUBTOTAL(9,tblPLBackingData[CNFs Sent])","v":350880},{"$f":"SUBTOTAL(9,tblPLBackingData[CNFs left at Stage 1])","v":203457},{"$f":"SUBTOTAL(9,tblPLBackingData[Stage 2 Exit])","v":3830},{"$f":"SUBTOTAL(9,tblPLBackingData[Exit process])","v":55861},{"$f":"SUBTOTAL(9,tblPLBackingData[Court Pack])","v":3245},{"$f":"SUBTOTAL(9,tblPLBackingData[Settled claims])","v":34910},{"$f":"SUBTOTAL(9,tblPLBackingData[General Damages])","v":245341.44160700004}]
[null,null,null,null,null,null,null,null,null,null,null,null,null,null,null,null,null,"Period","CNFs Sent","CNFs left at Stage 1","Stage 2 Exit","Exit process","Court Pack","Settled claims","General Damages",null,"Period","Previous 12 months rolling sum"]
["Rolling 12 CNFs sent",null,null,"Court packs rolling 12",null,null,null,null,null,null,null,null,null,null,null,null,null,"2013-09-01",1849,208,0,91,0,4,1300,null,"2013-09-01"]
[null,null,null,null,null,null,null,null,null,null,null,null,null,null,null,null,null,"2013-10-01",3391,840,1,224,0,8,1281.25,null,"2013-10-01"]
["Period","Rolling 12 Sent",null,"Row Labels","Total Court Packs",null,"Row Labels","Ave General Damages",null,null,null,null,null,null,null,null,null,"2013-11-01",3851,1558,0,271,0,39,1977.948717,null,"2013-11-01"]
["2018-04-01",{"$f":"VLOOKUP(A7,tblPrevious12[#All],2,FALSE)","v":58645},null,"2018-04-01",55,null,"2018-04-01",4344.9202230000001,null,null,null,null,null,null,null,null,null,"2013-12-01",3361,1837,6,293,0,50,2105,null,"2013-12-01"]
["2018-05-01",{"$f":"VLOOKUP(A8,tblPrevious12[#All],2,FALSE)","v":58326},null,"2018-05-01",73,null,"2018-05-01",4182.4503169999998,null,null,null,null,null,null,null,null,null,"2014-01-01",5241,2352,10,479,2,108,2417.3500920000001,null,"2014-01-01"]
["2018-06-01",{"$f":"VLOOKUP(A9,tblPrevious12[#All],2,FALSE)","v":58084},null,"2018-06-01",78,null,"2018-06-01",3962.3821280000002,null,null,null,null,null,null,null,null,null,"2014-02-01",5112,2165,16,443,4,149,2474.980067,null,"2014-02-01"]
["2018-07-01",{"$f":"VLOOKUP(A10,tblPrevious12[#All],2,FALSE)","v":58067},null,"2018-07-01",69,null,"2018-07-01",4341.497335,null,null,null,null,null,null,null,null,null,"2014-03-01",5783,3147,29,581,5,208,2764.1224510000002,null,"2014-03-01"]
["2018-08-01",{"$f":"VLOOKUP(A11,tblPrevious12[#All],2,FALSE)","v":57774},null,"2018-08-01",76,null,"2018-08-01",4379.1376630000004,null,null,null,null,null,null,null,null,null,"2014-04-01",5531,3269,26,675,7,245,2658.4375100000002,null,"2014-04-01"]
["2018-09-01",{"$f":"VLOOKUP(A12,tblPrevious12[#All],2,FALSE)","v":57604},null,"2018-09-01",60,null,"2018-09-01",4282.2780130000001,null,null,null,null,null,null,null,null,null,"2014-05-01",5843,3467,34,730,4,269,2944.2115610000001,null,"2014-05-01"]
["2018-10-01",{"$f":"VLOOKUP(A13,tblPrevious12[#All],2,FALSE)","v":57720},null,"2018-10-01",70,null,"2018-10-01",4335.4767499999998,null,null,null,null,null,null,null,null,null,"2014-06-01",6217,3535,41,749,22,344,3020.030377,null,"2014-06-01"]
["2018-11-01",{"$f":"VLOOKUP(A14,tblPrevious12[#All],2,FALSE)","v":57743},null,"2018-11-01",59,null,"2018-11-01",4326.5553980000004,null,null,null,null,null,null,null,null,null,"2014-07-01",7252,3973,53,881,19,446,3146.8208960000002,null,"2014-07-01"]
["2018-12-01",{"$f":"VLOOKUP(A15,tblPrevious12[#All],2,FALSE)","v":57571},null,"2018-12-01",48,null,"2018-12-01",3920.2566019999999,null,null,null,null,null,null,null,null,null,"2014-08-01",6162,3643,37,754,13,384,3308.3370570000002,null,"2014-08-01",{"$f":"SUM(S4:S15)","v":59593}]
["2019-01-01",{"$f":"VLOOKUP(A16,tblPrevious12[#All],2,FALSE)","v":57076},null,"2019-01-01",82,null,"2019-01-01",4257.2791070000003,null,null,null,null,null,null,null,null,null,"2014-09-01",7272,4136,62,1008,22,485,3106.994659,null,"2014-09-01",65016]
["2019-02-01",{"$f":"VLOOKUP(A17,tblPrevious12[#All],2,FALSE)","v":56677},null,"2019-02-01",66,null,"2019-02-01",3970.6514229999998,null,null,null,null,null,null,null,null,null,"2014-10-01",7688,4310,60,1134,34,616,3176.7030840000002,null,"2014-10-01",69313]
["2019-03-01",{"$f":"VLOOKUP(A18,tblPrevious12[#All],2,FALSE)","v":56576},null,"2019-03-01",82,null,"2019-03-01",4356.284447,null,null,null,null,null,null,null,null,null,"2014-11-01",6260,4079,62,971,28,563,3329.6076549999998,null,"2014-11-01",71722]
[null,null,null,"Grand Total",818,null,"Grand Total",50659.169406000001,null,null,null,null,null,null,null,null,null,"2014-12-01",5255,4091,62,979,37,579,3291.0112079999999,null,"2014-12-01",73616]
[null,null,null,null,null,null,null,null,null,null,null,null,null,null,null,null,null,"2015-01-01",6218,3618,55,977,28,633,3313.3723060000002,null,"2015-01-01",74593]
[null,null,null,null,null,null,null,null,null,null,null,null,null,null,null,null,null,"2015-02-01",6329,3152,67,833,43,633,3339.5623529999998,null,"2015-02-01",75810]
[null,null,null,null,null,null,null,null,null,null,null,null,null,null,null,null,null,"2015-03-01",6750,4068,65,1072,38,730,3404.7033419999998,null,"2015-03-01",76777]
[null,{"$f":"SUBTOTAL(9,B25:B38)","v":68458},null,null,null,null,null,null,null,null,null,null,null,null,null,null,null,"2015-04-01",5914,3802,79,953,40,661,3577.5724650000002,null,"2015-04-01",{"$f":"SUM(S12:S23)","v":77160}]
["Exit Process Reason","Total",null,"LDT","This Month LDT","Other Liability","This Month Other Liability","Interim Payment Not Agreed","This Month Interim Payment Not Agreed","Repudiated","This Month Repudiated","Timeout","This Month Timeout","Court Proceedings","This Month Court Proceedings",null,null,"2015-05-01",5414,3397,70,949,29,632,3448.4915339999998,null,"2015-05-01",76731]
["Claim is too complex for process",584,null,84916,1450,118689,875,52,1,144,2,3634,42,3245,82,null,null,"2015-06-01",6378,3939,59,1006,40,729,3627.6689430000001,null,"2015-06-01",76892]
["Claim requires further investigation",21854,null,null,null,null,null,null,null,null,null,null,null,null,null,null,null,"2015-07-01",6812,3911,75,1063,44,748,3798.3083550000001,null,"2015-07-01",76452]
["Duplicated claim",5923,null,null,null,null,null,null,null,null,null,null,null,null,null,null,null,"2015-08-01",5961,3590,60,939,38,626,3750.637843,null,"2015-08-01",76251]
["Incomplete information provided on CNF",4549,null,null,null,null,null,null,null,null,null,null,null,null,null,null,null,"2015-09-01",6183,3947,79,1028,52,675,3700.0653619999998,null,"2015-09-01",75162]
["Interim payment for child claimant",41,null,null,null,null,null,null,null,null,null,null,null,null,null,null,null,"2015-10-01",6162,3769,68,1020,42,722,3454.2663149999998,null,"2015-10-01",73636]
["Interim Payment partial offer not accepted",23,null,null,null,null,null,null,null,null,null,null,null,null,null,null,null,"2015-11-01",5841,3603,85,1008,50,709,3808.7843579999999,null,"2015-11-01",73217]
["Interim Payment request not answered and/or paid on time",303,null,null,null,null,null,null,null,null,null,null,null,null,null,null,null,"2015-12-01",4584,3447,87,881,45,640,3785.0480309999998,null,"2015-12-01",72546]
["Other",28989,null,null,null,null,null,null,null,null,null,null,null,null,null,null,null,"2016-01-01",5222,3271,60,933,39,620,3964.2704669999998,null,"2016-01-01",71550]
["Stage 1 costs not paid on time",1662,null,null,null,null,null,null,null,null,null,null,null,null,null,null,null,"2016-02-01",5739,2786,61,859,51,662,3763.3202409999999,null,"2016-02-01",70960]
["Value of claim below ú1,000",343,null,null,null,null,null,null,null,null,null,null,null,null,null,null,null,"2016-03-01",5737,3433,76,1026,50,676,3927.2018629999998,null,"2016-03-01",69947]
["Value of claim exceeds the upper limit",1606,null,null,null,null,null,null,null,null,null,null,null,null,null,null,null,"2016-04-01",5464,3395,80,981,45,662,3829.3263740000002,null,"2016-04-01",69497]
["Withdrawal of claim",2376,null,null,null,null,null,null,null,null,null,null,null,null,null,null,null,"2016-05-01",5004,3163,71,982,45,568,3940.3162499999999,null,"2016-05-01",69087]
["Withdrawal of offer",205,null,null,null,null,null,null,null,null,null,null,null,null,null,null,null,"2016-06-01",4435,3405,87,973,68,627,3940.8149440000002,null,"2016-06-01",67144]
[null,null,null,null,null,null,null,null,null,null,null,null,null,null,null,null,null,"2016-07-01",4824,2698,91,884,54,526,4052.135988,null,"2016-07-01",65156]
[null,null,null,null,null,null,null,null,null,null,null,null,null,null,null,null,null,"2016-08-01",5351,2216,38,606,35,561,3945.6738140000002,null,"2016-08-01",64546]
[null,null,null,null,null,null,null,null,null,null,null,null,null,null,null,null,null,"2016-09-01",5700,3277,84,954,77,604,3909.7556949999998,null,"2016-09-01",64063]
[null,null,null,null,null,null,null,null,null,null,null,null,null,null,null,null,null,"2016-10-01",5182,3203,87,991,53,611,3817.7136329999998,null,"2016-10-01",63083]
[null,null,null,null,null,null,null,null,null,null,null,null,null,null,null,null,null,"2016-11-01",5207,3320,86,939,61,602,4037.5911120000001,null,"2016-11-01",62449]
[null,null,null,null,null,null,null,null,null,null,null,null,null,null,null,null,null,"2016-12-01",3892,2775,76,784,56,537,4184.4410980000002,null,"2016-12-01",61757]
[null,null,null,null,null,null,null,null,null,null,null,null,null,null,null,null,null,"2017-01-01",5119,2833,74,878,85,574,3854.9294249999998,null,"2017-01-01",61654]
[null,null,null,null,null,null,null,null,null,null,null,null,null,null,null,null,null,"2017-02-01",4907,2374,56,750,64,599,3942.1031210000001,null,"2017-02-01",60822]
[null,null,null,null,null,null,null,null,null,null,null,null,null,null,null,null,null,"2017-03-01",5804,3297,80,944,78,650,4167.2315230000004,null,"2017-03-01",60889]
[null,null,null,null,null,null,null,null,null,null,null,null,null,null,null,null,null,"2017-04-01",4124,2622,66,742,44,568,4270.8655099999996,null,"2017-04-01",59549]
[null,null,null,null,null,null,null,null,null,null,null,null,null,null,null,null,null,"2017-05-01",5058,3139,63,873,77,637,4016.5316320000002,null,"2017-05-01",59603]
[null,null,null,null,null,null,null,null,null,null,null,null,null,null,null,null,null,"2017-06-01",4985,2962,67,891,72,599,4289.4138059999996,null,"2017-06-01",60153]
[null,null,null,null,null,null,null,null,null,null,null,null,null,null,null,null,null,"2017-07-01",4865,2907,64,909,87,570,4294.2862800000003,null,"2017-07-01",60194]
[null,null,null,null,null,null,null,null,null,null,null,null,null,null,null,null,null,"2017-08-01",5187,2924,62,901,72,562,4111.9753909999999,null,"2017-08-01",60030]
[null,null,null,null,null,null,null,null,null,null,null,null,null,null,null,null,null,"2017-09-01",4907,2888,57,823,65,537,4020.2592359999999,null,"2017-09-01",59237]
[null,null,null,null,null,null,null,null,null,null,null,null,null,null,null,null,null,"2017-10-01",5257,3055,64,894,84,560,4083.8753390000002,null,"2017-10-01",59312]
[null,null,null,null,null,null,null,null,null,null,null,null,null,null,null,null,null,"2017-11-01",5166,3115,52,922,89,575,4293.3424859999996,null,"2017-11-01",59271]
[null,null,null,null,null,null,null,null,null,null,null,null,null,null,null,null,null,"2017-12-01",3612,2616,58,766,73,447,4242.8048989999998,null,"2017-12-01",58991]
[null,null,null,null,null,null,null,null,null,null,null,null,null,null,null,null,null,"2018-01-01",5162,2877,47,890,75,521,4110.3657579999999,null,"2018-01-01",59034]
[null,null,null,null,null,null,null,null,null,null,null,null,null,null,null,null,null,"2018-02-01",4957,2271,52,744,61,554,4213.6596200000004,null,"2018-02-01",59084]
[null,null,null,null,null,null,null,null,null,null,null,null,null,null,null,null,null,"2018-03-01",4823,2970,73,893,81,577,4146.7801550000004,null,"2018-03-01",58103]
[null,null,null,null,null,null,null,null,null,null,null,null,null,null,null,null,null,"2018-04-01",4666,2772,69,825,55,538,4344.9202230000001,null,"2018-04-01",58645]
[null,null,null,null,null,null,null,null,null,null,null,null,null,null,null,null,null,"2018-05-01",4739,2887,62,889,73,567,4182.4503169999998,null,"2018-05-01",58326]
[null,null,null,null,null,null,null,null,null,null,null,null,null,null,null,null,null,"2018-06-01",4743,2818,56,819,78,545,3962.3821280000002,null,"2018-06-01",58084]
[null,null,null,null,null,null,null,null,null,null,null,null,null,null,null,null,null,"2018-07-01",4848,2817,51,939,69,503,4341.497335,null,"2018-07-01",{"$f":"SUM(S51:S62)","v":58067}]
[null,null,null,null,null,null,null,null,null,null,null,null,null,null,null,null,null,"2018-08-01",4894,2911,57,905,76,505,4379.1376630000004,null,"2018-08-01",{"$f":"SUM(S52:S63)","v":57774}]
[null,null,null,null,null,null,null,null,null,null,null,null,null,null,null,null,null,"2018-09-01",4737,2565,50,848,60,443,4282.2780130000001,null,"2018-09-01",{"$f":"SUM(S53:S64)","v":57604}]
[null,null,null,null,null,null,null,null,null,null,null,null,null,null,null,null,null,"2018-10-01",5373,3010,48,985,70,560,4335.4767499999998,null,"2018-10-01",{"$f":"SUM(S54:S65)","v":57720}]
[null,null,null,null,null,null,null,null,null,null,null,null,null,null,null,null,null,"2018-11-01",5189,3053,54,979,59,628,4326.5553980000004,null,"2018-11-01",{"$f":"SUM(S55:S66)","v":57743}]
[null,null,null,null,null,null,null,null,null,null,null,null,null,null,null,null,null,"2018-12-01",3440,2557,43,742,48,471,3920.2566019999999,null,"2018-12-01",{"$f":"SUM(S56:S67)","v":57571}]
[null,null,null,null,null,null,null,null,null,null,null,null,null,null,null,null,null,"2019-01-01",4667,3001,60,818,82,538,4257.2791070000003,null,"2019-01-01",{"$f":"SUM(S57:S68)","v":57076}]
[null,null,null,null,null,null,null,null,null,null,null,null,null,null,null,null,null,"2019-02-01",4558,2096,55,615,66,548,3970.6514229999998,null,"2019-02-01",{"$f":"SUM(S58:S69)","v":56677}]
[null,null,null,null,null,null,null,null,null,null,null,null,null,null,null,null,null,"2019-03-01",4722,2325,45,773,82,643,4356.284447,null,"2019-03-01",{"$f":"SUM(S59:S70)","v":56576}]

{"sheet":"Year Calculations","index":2,"n_rows":10,"n_cols":7,"rows_kept":10,"cut":false,"hidden":false,"merged":[]}
["Period","CNFs sent","CNFs left at stage 1","Stage 2 exit","Exit process","Court pack","Settled claims"]
["2013-14",{"$f":"SUM('Backing Sheet Data'!S4:S15)","v":59593},{"$f":"SUM('Backing Sheet Data'!T4:T15)","v":29994},{"$f":"SUM('Backing Sheet Data'!U4:U15)","v":253},{"$f":"SUM('Backing Sheet Data'!V4:V15)","v":6171},{"$f":"SUM('Backing Sheet Data'!W4:W15)","v":76},{"$f":"SUM('Backing Sheet Data'!X4:X15)","v":2254}]
["2014-15",{"$f":"SUM('Backing Sheet Data'!S16:S27)","v":76251},{"$f":"SUM('Backing Sheet Data'!T16:T27)","v":46093},{"$f":"SUM('Backing Sheet Data'!U16:U27)","v":776},{"$f":"SUM('Backing Sheet Data'!V16:V27)","v":11884},{"$f":"SUM('Backing Sheet Data'!W16:W27)","v":421},{"$f":"SUM('Backing Sheet Data'!X16:X27)","v":7635}]
["2015-16",{"$f":"SUM('Backing Sheet Data'!S28:S39)","v":64546},{"$f":"SUM('Backing Sheet Data'!T28:T39)","v":39133},{"$f":"SUM('Backing Sheet Data'!U28:U39)","v":883},{"$f":"SUM('Backing Sheet Data'!V28:V39)","v":11181},{"$f":"SUM('Backing Sheet Data'!W28:W39)","v":576},{"$f":"SUM('Backing Sheet Data'!X28:X39)","v":7648}]
["2016-17",{"$f":"SUM('Backing Sheet Data'!S40:S51)","v":60030},{"$f":"SUM('Backing Sheet Data'!T40:T51)","v":35633},{"$f":"SUM('Backing Sheet Data'!U40:U51)","v":865},{"$f":"SUM('Backing Sheet Data'!V40:V51)","v":10556},{"$f":"SUM('Backing Sheet Data'!W40:W51)","v":826},{"$f":"SUM('Backing Sheet Data'!X40:X51)","v":7113}]
["2017-18",{"$f":"SUM('Backing Sheet Data'!S52:S63)","v":57774},{"$f":"SUM('Backing Sheet Data'!T52:T63)","v":33997},{"$f":"SUM('Backing Sheet Data'!U52:U63)","v":698},{"$f":"SUM('Backing Sheet Data'!V52:V63)","v":10309},{"$f":"SUM('Backing Sheet Data'!W52:W63)","v":879},{"$f":"SUM('Backing Sheet Data'!X52:X63)","v":6429}]
["2018-19",{"$f":"SUM('Backing Sheet Data'!S64:S70)","v":32686},{"$f":"SUM('Backing Sheet Data'!T64:T70)","v":18607},{"$f":"SUM('Backing Sheet Data'!U64:U70)","v":355},{"$f":"SUM('Backing Sheet Data'!V64:V70)","v":5760},{"$f":"SUM('Backing Sheet Data'!W64:W70)","v":467},{"$f":"SUM('Backing Sheet Data'!X64:X70)","v":3831}]
[]
[]
["Update last period monthly!"]